BEGIN:VCALENDAR
VERSION:2.0
PRODID:-//hacksw/handcal//NONSGML v1.0//EN
BEGIN:VEVENT
SUMMARY:Vide-grenier
UID:3c5612db-ec05-43cf-879d-fc95dd73f075
DTSTART:20260327T230000Z
DTEND:20260328T230000Z
LOCATION:Localisation   
CATEGORIES:Manifestation
STATUS:
URL;VALUE=URI:https://www.ucgradignan.fr/evenements/2026/03/28/vide-grenier-2423022
END:VEVENT
END:VCALENDAR
