BEGIN:VCALENDAR
VERSION:2.0
PRODID:-//hacksw/handcal//NONSGML v1.0//EN
BEGIN:VEVENT
SUMMARY:TDJC
UID:2c2cdc77-e38c-4763-b4b4-7d7be534c535
DTSTART:20260505T220000Z
DTEND:20260506T220000Z
LOCATION:Localisation   
CATEGORIES:Sportif
STATUS:
URL;VALUE=URI:https://www.ucgradignan.fr/evenements/2026/05/06/tdjc-2423024
END:VEVENT
END:VCALENDAR
